BEGIN:VCALENDAR
VERSION:2.0
PRODID:-//GVSU//GVSU Calendar 0.1//EN
BEGIN:VEVENT
DTSTART:20270416T140000Z
DTEND;VALUE=DATE:20270416Z
DTSTAMP:20260302T215101Z
UID:f4483f7a-cf40-451d-8033-38fd534ea138@gvsu.edu
DESCRIPTION:
LOCATION:Multipurpose RoomGVSU-AWRI Lake Michigan Center740 W. Shoreline Dr.Muskegon\, MI 49441
SUMMARY:AWRI Seminar Series\: TBD
PRIORITY:3
END:VEVENT
END:VCALENDAR
