BEGIN:VCALENDAR
VERSION:2.0
PRODID:-//GVSU//GVSU Calendar 0.1//EN
BEGIN:VEVENT
DTSTART:20270319T140000Z
DTEND;VALUE=DATE:20270319Z
DTSTAMP:20260302T214953Z
UID:a102ed52-42fb-4845-a65f-60d7744a6c58@gvsu.edu
DESCRIPTION:
LOCATION:Multipurpose RoomGVSU-AWRI Lake Michigan Center740 W. Shoreline Dr.Muskegon\, MI 49441
SUMMARY:AWRI Seminar Series\: TBD
PRIORITY:3
END:VEVENT
END:VCALENDAR
