BEGIN:VCALENDAR
VERSION:2.0
PRODID:-//GVSU//GVSU Calendar 0.1//EN
BEGIN:VEVENT
DTSTART:20270219T140000Z
DTEND;VALUE=DATE:20270219Z
DTSTAMP:20260302T214849Z
UID:992bd51c-056b-4fb4-a6d7-9e52703d4b44@gvsu.edu
DESCRIPTION:
LOCATION:Multipurpose RoomGVSU-AWRI Lake Michigan Center740 W. Shoreline Dr.Muskegon\, MI 49441
SUMMARY:AWRI Seminar Series\: TBD
PRIORITY:3
END:VEVENT
END:VCALENDAR
