BEGIN:VCALENDAR
VERSION:2.0
PRODID:-//GVSU//GVSU Calendar 0.1//EN
BEGIN:VEVENT
DTSTART:20261009T140000Z
DTEND;VALUE=DATE:20261009Z
DTSTAMP:20260302T214456Z
UID:8fd434d1-541b-4d0e-8e86-ff1b19474832@gvsu.edu
DESCRIPTION:
LOCATION:Multipurpose RoomGVSU-AWRI Lake Michigan Center740 W. Shoreline Dr.Muskegon\, MI 49441
SUMMARY:AWRI Seminar Series\: Laura Johnson\, PhD
PRIORITY:3
END:VEVENT
END:VCALENDAR
