BEGIN:VCALENDAR
VERSION:2.0
PRODID:-//GVSU//GVSU Calendar 0.1//EN
BEGIN:VEVENT
DTSTART:20260911T140000Z
DTEND;VALUE=DATE:20260911Z
DTSTAMP:20260302T214317Z
UID:5f23ccc1-76ce-4503-8e78-d6656c538e96@gvsu.edu
DESCRIPTION:
LOCATION:Multipurpose RoomGVSU-AWRI Lake Michigan Center740 W. Shoreline Dr.Muskegon\, MI 49441
SUMMARY:AWRI Seminar Series\: Grace Kuan
PRIORITY:3
END:VEVENT
END:VCALENDAR
