BEGIN:VCALENDAR
VERSION:2.0
PRODID:-//GVSU//GVSU Calendar 0.1//EN
BEGIN:VEVENT
DTSTART:20270115T140000Z
DTEND;VALUE=DATE:20270115Z
DTSTAMP:20260302T214735Z
UID:440122df-ea03-410c-82a7-e3a43e7d15ea@gvsu.edu
DESCRIPTION:
LOCATION:Multipurpose RoomGVSU-AWRI Lake Michigan Center740 W. Shoreline Dr.Muskegon\, MI 49441
SUMMARY:AWRI Seminar Series\: TBD
PRIORITY:3
END:VEVENT
END:VCALENDAR
