BEGIN:VCALENDAR
VERSION:2.0
PRODID:-//GVSU//GVSU Calendar 0.1//EN
BEGIN:VEVENT
DTSTART:20261113T140000Z
DTEND;VALUE=DATE:20261113Z
DTSTAMP:20260302T214624Z
UID:3d26bb4f-a0b2-4668-be88-7962c24ab16f@gvsu.edu
DESCRIPTION:
LOCATION:Multipurpose RoomGVSU-AWRI Lake Michigan Center740 W. Shoreline Dr.Muskegon\, MI 49441
SUMMARY:AWRI Seminar Series\: Brian Deyo\, PhD
PRIORITY:3
END:VEVENT
END:VCALENDAR
