BEGIN:VCALENDAR
VERSION:2.0
PRODID:-//GVSU//GVSU Calendar 0.1//EN
BEGIN:VEVENT
DTSTART:20260430T190000
DTEND:20260430T000000
DESCRIPTION:You are invited to the World Premiere of the latest GVSU Summer Film Project\, Three Divided by Zero\,\n\n\n\nSet in 1979\, three roommates come to blows after encountering a mysterious machine that informs them that they won&#39\;t wake to see the next morning.\n\n\n\nWatch the TRAILER here.\n\n\n\nThis is the 30th Year Anniversary of the SFP\, and the night will also feature a discussion from special guests and the premiere of a new 30-Year Summer Film Retrospective.\n\n\n\nTickets and details\:\n\n\n\nhttps\://grcmc.vbotickets.com/event/Three_Divided_by_Zero_World_Premiere/190160
LOCATION:Wealthy Theatre\n\n1130 Wealthy St SE\, Grand Rapids\, MI 49506\n\n\n\nhttps\://grcmc.vbotickets.com/event/Three_Divided_by_Zero_World_Premiere/190160
SUMMARY:Film Screening\: Three Divided by Zero
PRIORITY:3
END:VEVENT
END:VCALENDAR