BEGIN:VCALENDAR
VERSION:2.0
PRODID:-//GVSU//GVSU Calendar 0.1//EN
BEGIN:VEVENT
DTSTART:20260428T140000
DTEND:20260428T160000
DESCRIPTION:Get Inked (Without the Commitment!)\n\n\n\nSwing by to hang with faculty\, staff\, and students for the ultimate low-stakes glow-up.\n\nWe&rsquo\;re dropping exclusive temporary tattoos designed by our very own student artists\: Ayanna Watson\, Amelia VanWyck\, and Anna Hultman.\n\nCome grab a cool design\, a great conversation\, and a fresh new look!
LOCATION:Front hallway\, Calder Arts Center\, Valley Campus
SUMMARY:Tattoo Parlor\: VMA Student Well-being Event
PRIORITY:3
END:VEVENT
END:VCALENDAR