BEGIN:VCALENDAR
VERSION:2.0
PRODID:-//GVSU//GVSU Calendar 0.1//EN
BEGIN:VEVENT
DTSTART:20260423T190000
DTEND:20260423T201500
DESCRIPTION:Experimental Video Shorts\n\n\n\nBy Students of Winter 2026 Visual Studies ART 296 Time Studio\n\nStudent Artist Film Screening\n\nLake Superior Hall 154\n\nFree and open to the public.
LOCATION:Lake Superior Hall\n\n\n\n4187 Calder Dr\, Allendale\, MI 49401\n\nValley Campus
SUMMARY:Screening\: Distorted Channels
PRIORITY:3
END:VEVENT
END:VCALENDAR