BEGIN:VCALENDAR
VERSION:2.0
PRODID:-//GVSU//GVSU Calendar 0.1//EN
BEGIN:VEVENT
DTSTART:20260526T140000Z
DTEND:20260526T160000Z
DTSTAMP:20260410T161302Z
UID:7a4c31c4-ee6e-4204-9980-38037ed6f77a@gvsu.edu
DESCRIPTION:
LOCATION:Location\: GVSU’ Traverse City Regional Center\: 1890 College Drive Traverse City\, MI 49686Parking\: Park in Northwestern Michigan College's Maple Lot. Then cross the road and walk towards the James Beckett Building. Our Healthcare Showcase is at our Traverse City Regional Center on the first and second floor of the Beckett Building.
SUMMARY:GVSU Healthcare Showcase
PRIORITY:3
END:VEVENT
END:VCALENDAR
