BEGIN:VCALENDAR
VERSION:2.0
PRODID:-//GVSU//GVSU Calendar 0.1//EN
BEGIN:VEVENT
DTSTART:20260414T163000Z
DTEND:20260414T180000Z
DTSTAMP:20251027T155931Z
UID:424a728a-e143-4f06-925b-96432d490531@gvsu.edu
DESCRIPTION:
LOCATION:Kirkhof Center\, Pere Marquette Room (KC 2204)
SUMMARY:Thompson Scholar Celebration of Graduates
PRIORITY:3
END:VEVENT
END:VCALENDAR
