BEGIN:VCALENDAR
VERSION:2.0
PRODID:-//GVSU//GVSU Calendar 0.1//EN
BEGIN:VEVENT
DTSTART:20230323T160000
DTEND:20230323T180000
DESCRIPTION:At a time when America feels like it is ripping apart at the seams\, there is a pressing need for civil conversation and relationship-building. Please join us for an event that involves two components\: an interactive\, in-person panel led conversation on March 23rd about how we can see the humanity in one another across differences which will integrate highlights from the award-winning documentary\, Reunited States\; and a corresponding online viewing of the full documentary that you can view at your convenience between March 20-26th. \n\n\n\nOn March 23rd\, we will hear from three panelists who hold divergent perspectives as we engage in civil conversations with one another about how we can work together to build trust in and across our communities. This conversation will be a space for collective reflection about how we can translate feelings of mistrust and frustration into bridge-building action steps. For those who view Reunited States in advance\, the film may inspire solution-oriented ideas regarding some of the key issues facing the United States today.\n\n\n\nINT 100/201 approved!
LOCATION:Kirkhof Room 2263\n\n\n\nAllendale Campus\n\n\n\n1 Campus Drive\n\n\n\nAllendale\, MI 49401
SUMMARY:Building Trust Across America\, One Relationship at a Time
PRIORITY:3
END:VEVENT
END:VCALENDAR