BEGIN:VCALENDAR
VERSION:2.0
PRODID:-//GVSU//GVSU Calendar 0.1//EN
BEGIN:VEVENT
DTSTART:20221013T183000
DTEND:20221013T203000
DESCRIPTION:The People&rsquo\;s Supper\, is an organization that works to bring people of varying religious/political/ideological beliefs together around food and conversation.\n\n\n\nIn a moment of acute political division\, the supper table is a uniquely simple and sacred space through which we can find real nourishment and real healing. The People&rsquo\;s Supper has hosted thousands of suppers across the country\, born of a belief that a group of thoughtful people who differ from one another &mdash\; politically\, culturally\, racially\, and generationally &mdash\; can sit down over a shared meal and engage in meaningful conversation together.\n\n\n\nOn Thursday\, October 13th\, at 6\:30pm we&rsquo\;re bringing diverse GVSU and Grand Rapids Community participants together for a meal and conversation in the nationwide lead up to the midterm elections.\n\n\n\nWe encourage you to arrive prior to the program start in order for the program to begin promptly at 6\:30 pm. Thank you in advance!\n\n\n\nThe dinner is free but registration is required. Sign up today to save your seat!\n\n\n\nOnce you RSVP\, you can expect another email that will include additional information on the event\, including information on parking and on the food that will be provided.
LOCATION:L.V. Eberhard Center (EC)\n\n\n\nGrand Valley State University\: Pew Campus\n\n\n\n301 Fulton St W.\n\n\n\nGrand Rapids\, MI 49504
SUMMARY:Film screening (Purple) & The People's Supper
PRIORITY:3
END:VEVENT
END:VCALENDAR