BEGIN:VCALENDAR
VERSION:2.0
PRODID:-//GVSU//GVSU Calendar 0.1//EN
BEGIN:VEVENT
DTSTART:20260429T140000
DTEND:20260429T170000
DESCRIPTION:Visit us at 130 Lake Ontario Hall for study abroad advising or just hang out\, grab a coffee\, and get a break from exam week craziness!\n\n\n\nFree coffee and snacks!!
LOCATION:130 Lake Ontario Hall
SUMMARY:Exam Jam with the Study Abroad Office
PRIORITY:3
END:VEVENT
END:VCALENDAR