BEGIN:VCALENDAR
VERSION:2.0
PRODID:-//GVSU//GVSU Calendar 0.1//EN
BEGIN:VEVENT
DTSTART:20250903T120000
DTEND:20250903T150000
DESCRIPTION:All staff and students are welcome to join us for lawn games\, international music\, snacks\, and other activities in front of the clocktower!\n\n\n\nGlobal Laker Festival Page\n\n\n\nTIE-DYE! &amp\; Free Global Laker t-shirts (while supplies last) \n\n\n\nLIVE MUSIC by Samuel Nalangira \n\n\n\nINT 100/201 APPROVED!\n\n\n\n*** FOOD TRUCK! *** by Casa De Los Abuelos (Salvadoran/Mexican food)\n\n\n\n
LOCATION:Lawn in front of the clocktower outside of Kirkhof
SUMMARY:Global Laker Festival
PRIORITY:3
END:VEVENT
END:VCALENDAR