BEGIN:VCALENDAR
VERSION:2.0
PRODID:-//GVSU//GVSU Calendar 0.1//EN
BEGIN:VEVENT
DTSTART;VALUE=DATE:20260423
DESCRIPTION:ExtravaGRANDza 2026\n\n\n\nCelebrate the end of an amazing year with a week full of fun\, excitement\, and Laker spirit at ExtravaGRANDza! This weeklong series of events is all about coming together as a community to wrap up the school year in style.\n\n\n\nFrom games and giveaways to entertainment and unforgettable activities\, there&rsquo\;s something for everyone to enjoy. Don&rsquo\;t miss out on the chance to make lasting memories with your friends before summer begins!\n\n\n\nFull schedule and details are on our website! Visit\:&nbsp\;gvsu.edu/cab/extravagrandza-17.htm\n\n\n\n\n\n	Monday\, 4/20\: Games &amp\; Glizzies\, 3\:30-5\:30pm Holton Hooker Firepit\n\n	Monday\, 4/20\: Exam Jam Bingo\, 5\:30-7pm Kirkhof Center Thornapple Room (0058)\n\n	Tuesday\, 4/21\: Picture Frame Decorating\, 6-7\:30pm Kirkhof Center Thornapple Room (0058)\n\n	Wednesday\, 4/22\: Candy Salad Bar\, 12-1\:30pm Kirkhof Center Lobby\n\n	Thursday\, 4/23\: Keychain Making\, 6-7\:30pm Kirkhof Center 2259\n\n	Friday\, 4/24\: Lakerpalooza\, 5-9pm Kirkhof Center\n\n
SUMMARY:ExtravaGRANDza
PRIORITY:3
END:VEVENT
BEGIN:VEVENT
DTSTART:20260423T110000
DTEND:20260423T120000
DESCRIPTION:The Alcohol & Other Drugs Services office will be holding a series of webinar topics related to substance abuse\, impacts\, and issues. Check out the variety of topics and join us via Zoom to get more information and to ask questions about each topic. The presentations will last about 40 to 50 minutes and are open to students\, faculty\, staff\, and the community. Time will be available for participants to ask questions at the end of the webinar.Competencies\:Experiential and Engaged LearningHealth and Well-being
SUMMARY:Knowledge Support Series\: The ABCs of CBD & THC
PRIORITY:3
END:VEVENT
BEGIN:VEVENT
DTSTART;VALUE=DATE:20260424
DESCRIPTION:ExtravaGRANDza 2026\n\n\n\nCelebrate the end of an amazing year with a week full of fun\, excitement\, and Laker spirit at ExtravaGRANDza! This weeklong series of events is all about coming together as a community to wrap up the school year in style.\n\n\n\nFrom games and giveaways to entertainment and unforgettable activities\, there&rsquo\;s something for everyone to enjoy. Don&rsquo\;t miss out on the chance to make lasting memories with your friends before summer begins!\n\n\n\nFull schedule and details are on our website! Visit\:&nbsp\;gvsu.edu/cab/extravagrandza-17.htm\n\n\n\n\n\n	Monday\, 4/20\: Games &amp\; Glizzies\, 3\:30-5\:30pm Holton Hooker Firepit\n\n	Monday\, 4/20\: Exam Jam Bingo\, 5\:30-7pm Kirkhof Center Thornapple Room (0058)\n\n	Tuesday\, 4/21\: Picture Frame Decorating\, 6-7\:30pm Kirkhof Center Thornapple Room (0058)\n\n	Wednesday\, 4/22\: Candy Salad Bar\, 12-1\:30pm Kirkhof Center Lobby\n\n	Thursday\, 4/23\: Keychain Making\, 6-7\:30pm Kirkhof Center 2259\n\n	Friday\, 4/24\: Lakerpalooza\, 5-9pm Kirkhof Center\n\n
SUMMARY:ExtravaGRANDza
PRIORITY:3
END:VEVENT
BEGIN:VEVENT
DTSTART:20260424T170000
DTEND:20260424T210000
DESCRIPTION:Lakerpalooza 2026\n\n\n\nOne last hurrah before summer! Come celebrate the end of the school year with your fellow Lakers at Lakerpalooza on Friday\, April 24 from 5&ndash\;9 p.m. at the Kirkhof Center.\n\n\n\nEnjoy an evening packed with fun and celebration\, featuring\:\n\n\n\n\n\n	Laser Tag\n\n	Food trucks\n\n	Games &amp\; activities\n\n	Caricature artists\n\n	&hellip\;and so much more!\n\n\n\n\n\nBring your friends\, soak up the spring vibes\, and send off the year with memories you&rsquo\;ll never forget!
SUMMARY:Lakerpalooza
PRIORITY:3
END:VEVENT
BEGIN:VEVENT
DTSTART:20260424T190000
DTEND:20260424T203000
DESCRIPTION:Come join Subject To Change at Neimeyer Ampitheatre at 7 pm to see this amazing show on the lawn! This show sends off the seniors\, so come and support for their last show!Competencies\:Fun and EnjoymentConnection and BelongingCollaboration and Creativity
SUMMARY:Improv Showers Bring Undie Flowers (Improv Comedy Sunset Show)
PRIORITY:3
END:VEVENT
BEGIN:VEVENT
DTSTART:20260426T180000
DTEND:20260426T220000
DESCRIPTION:Were so excited to invite all students to our upcoming dance showcasean energetic\, feel-good event you wont want to miss! Come out and support your peers as they take the stage and bring a variety of dance styles to life through creativity\, passion\, and hard work. Whether you love dance or just want something fun to do\, this is a great chance to relax\, enjoy the music\, and be part of an uplifting atmosphere.\n\nThis showcase is more than just a performanceits a celebration of self-expression\, confidence\, and community. Our organization is dedicated to creating a welcoming space where students can connect\, grow\, and share their talents\, and this event truly reflects that mission. Bring your friends\, come ready to cheer\, and enjoy a night full of excitement and unforgettable performances!Competencies\:Fun and Enjoyment
SUMMARY:Rhythm In Blue (RIBS) Showcase
PRIORITY:3
END:VEVENT
BEGIN:VEVENT
DTSTART:20260520T190000
DTEND:20260520T220000
DESCRIPTION:Come hang out at GVSU REC FIELD #1 for field games such as Frisbee\, Spikeball\, and more! Bring your friends and make some new ones \:)Competencies\:Connection and Belonging
SUMMARY:CM Summer Gathering - Field Night
PRIORITY:3
END:VEVENT
END:VCALENDAR