BEGIN:VCALENDAR
VERSION:2.0
PRODID:-//GVSU//GVSU Calendar 0.1//EN
BEGIN:VEVENT
DTSTART:20260424T100000
DTEND:20260424T110000
DESCRIPTION:The Master of Public Health program invites you to learn more about earning your MPH degree at GVSU!\n\n\n\nJoin the MPH program director\, Dr. Ranelle Brew\, to learn how and why you should earn your Master of Public Health at Grand Valley State University.&nbsp\;\n\nWe invite you to attend an upcoming Information Event\:\n\n\n\nProspective MPH applicants are encouraged to join us for any one of our&nbsp\;upcoming interactive Public Health Virtual Information&nbsp\;sessions\; all will be held virtually.\n\n\n\n\n\n	Friday\,&nbsp\;April 24 at&nbsp\;10&nbsp\;a.m.&nbsp\;-&nbsp\; Register \n\n	Wednesday\, April 29 at 9 a.m.&nbsp\;-&nbsp\;Register \n\n	Thursday\,&nbsp\;May 7 at 10 a.m.&nbsp\;-&nbsp\;Register \n\n	Tuesday\, May 12 at 4 p.m.&nbsp\;-&nbsp\;Register \n\n	Thursday\,&nbsp\;May 18 at 1 p.m.&nbsp\;-&nbsp\;Register \n\n	Thursday\,&nbsp\;May 28 at 10 a.m.&nbsp\;-&nbsp\;Register \n\n	Wednesday\, June 3 at 12 p.m./noon -  Register \n\n\n\n\n\nPre-registration is required to attend a&nbsp\;Public Health Virtual Information&nbsp\;session&nbsp\;- use the registration links above\, or &nbsp\; visit the CPH Events Portal&nbsp\;for a full list of upcoming Public Health Virtual Information Sessions and to Register . Prospective students who register and attend a Public Health Virtual Information Session will receive a code to waive the GVSU MPH application fee.&nbsp\;\n\n\n\nClick here for additional information\n\n\n\nRSVP for this event
SUMMARY:Master of Public Health (MPH) Virtual Information Session
PRIORITY:3
END:VEVENT
BEGIN:VEVENT
DTSTART:20260429T090000
DTEND:20260429T100000
DESCRIPTION:The Master of Public Health program invites you to learn more about earning your MPH degree at GVSU!\n\n\n\nJoin the MPH program director\, Dr. Ranelle Brew\, to learn how and why you should earn your Master of Public Health at Grand Valley State University.&nbsp\;\n\nWe invite you to attend an upcoming Information Event\:\n\n\n\nProspective MPH applicants are encouraged to join us for any one of our&nbsp\;upcoming interactive Public Health Virtual Information&nbsp\;sessions\; all will be held virtually.\n\n\n\n\n\n	Friday\,&nbsp\;April 24 at&nbsp\;10&nbsp\;a.m.&nbsp\;-&nbsp\; Register \n\n	Wednesday\, April 29 at 9 a.m.&nbsp\;-&nbsp\;Register \n\n	Thursday\,&nbsp\;May 7 at 10 a.m.&nbsp\;-&nbsp\;Register \n\n	Tuesday\, May 12 at 4 p.m.&nbsp\;-&nbsp\;Register \n\n	Thursday\,&nbsp\;May 18 at 1 p.m.&nbsp\;-&nbsp\;Register \n\n	Thursday\,&nbsp\;May 28 at 10 a.m.&nbsp\;-&nbsp\;Register \n\n	Wednesday\, June 3 at 12 p.m./noon -  Register \n\n\n\n\n\nPre-registration is required to attend a&nbsp\;Public Health Virtual Information&nbsp\;session&nbsp\;- use the registration links above\, or &nbsp\; visit the CPH Events Portal&nbsp\;for a full list of upcoming Public Health Virtual Information Sessions and to Register . Prospective students who register and attend a Public Health Virtual Information Session will receive a code to waive the GVSU MPH application fee.&nbsp\;\n\n\n\nClick here for additional information\n\n\n\nRSVP for this event
SUMMARY:Master of Public Health (MPH) Virtual Information Session
PRIORITY:3
END:VEVENT
BEGIN:VEVENT
DTSTART:20260507T100000
DTEND:20260507T110000
DESCRIPTION:The Master of Public Health program invites you to learn more about earning your MPH degree at GVSU!\n\n\n\nJoin the MPH program director\, Dr. Ranelle Brew\, to learn how and why you should earn your Master of Public Health at Grand Valley State University.&nbsp\;\n\nWe invite you to attend an upcoming Information Event\:\n\n\n\nProspective MPH applicants are encouraged to join us for any one of our&nbsp\;upcoming interactive Public Health Virtual Information&nbsp\;sessions\; all will be held virtually.\n\n\n\n\n\n	Friday\,&nbsp\;April 24 at&nbsp\;10&nbsp\;a.m.&nbsp\;-&nbsp\; Register \n\n	Wednesday\, April 29 at 9 a.m.&nbsp\;-&nbsp\;Register \n\n	Thursday\,&nbsp\;May 7 at 10 a.m.&nbsp\;-&nbsp\;Register \n\n	Tuesday\, May 12 at 4 p.m.&nbsp\;-&nbsp\;Register \n\n	Thursday\,&nbsp\;May 18 at 1 p.m.&nbsp\;-&nbsp\;Register \n\n	Thursday\,&nbsp\;May 28 at 10 a.m.&nbsp\;-&nbsp\;Register \n\n	Wednesday\, June 3 at 12 p.m./noon -  Register \n\n\n\n\n\nPre-registration is required to attend a&nbsp\;Public Health Virtual Information&nbsp\;session&nbsp\;- use the registration links above\, or &nbsp\; visit the CPH Events Portal&nbsp\;for a full list of upcoming Public Health Virtual Information Sessions and to Register . Prospective students who register and attend a Public Health Virtual Information Session will receive a code to waive the GVSU MPH application fee.&nbsp\;\n\n\n\nClick here for additional information\n\n\n\nRSVP for this event
SUMMARY:Master of Public Health (MPH) Virtual Information Session
PRIORITY:3
END:VEVENT
BEGIN:VEVENT
DTSTART:20260512T160000
DTEND:20260512T170000
DESCRIPTION:The Master of Public Health program invites you to learn more about earning your MPH degree at GVSU!\n\n\n\nJoin the MPH program director\, Dr. Ranelle Brew\, to learn how and why you should earn your Master of Public Health at Grand Valley State University.&nbsp\;\n\nWe invite you to attend an upcoming Information Event\:\n\n\n\nProspective MPH applicants are encouraged to join us for any one of our&nbsp\;upcoming interactive Public Health Virtual Information&nbsp\;sessions\; all will be held virtually.\n\n\n\n\n\n	Friday\,&nbsp\;April 24 at&nbsp\;10&nbsp\;a.m.&nbsp\;-&nbsp\; Register \n\n	Wednesday\, April 29 at 9 a.m.&nbsp\;-&nbsp\;Register \n\n	Thursday\,&nbsp\;May 7 at 10 a.m.&nbsp\;-&nbsp\;Register \n\n	Tuesday\, May 12 at 4 p.m.&nbsp\;-&nbsp\;Register \n\n	Thursday\,&nbsp\;May 18 at 1 p.m.&nbsp\;-&nbsp\;Register \n\n	Thursday\,&nbsp\;May 28 at 10 a.m.&nbsp\;-&nbsp\;Register \n\n	Wednesday\, June 3 at 12 p.m./noon -  Register \n\n\n\n\n\nPre-registration is required to attend a&nbsp\;Public Health Virtual Information&nbsp\;session&nbsp\;- use the registration links above\, or &nbsp\; visit the CPH Events Portal&nbsp\;for a full list of upcoming Public Health Virtual Information Sessions and to Register . Prospective students who register and attend a Public Health Virtual Information Session will receive a code to waive the GVSU MPH application fee.&nbsp\;\n\n\n\nClick here for additional information\n\n\n\nRSVP for this event
SUMMARY:Master of Public Health (MPH) Virtual Information Session
PRIORITY:3
END:VEVENT
BEGIN:VEVENT
DTSTART:20260518T130000
DTEND:20260518T140000
DESCRIPTION:The Master of Public Health program invites you to learn more about earning your MPH degree at GVSU!\n\n\n\nJoin the MPH program director\, Dr. Ranelle Brew\, to learn how and why you should earn your Master of Public Health at Grand Valley State University.&nbsp\;\n\nWe invite you to attend an upcoming Information Event\:\n\n\n\nProspective MPH applicants are encouraged to join us for any one of our&nbsp\;upcoming interactive Public Health Virtual Information&nbsp\;sessions\; all will be held virtually.\n\n\n\n\n\n	Friday\,&nbsp\;April 24 at&nbsp\;10&nbsp\;a.m.&nbsp\;-&nbsp\; Register \n\n	Wednesday\, April 29 at 9 a.m.&nbsp\;-&nbsp\;Register \n\n	Thursday\,&nbsp\;May 7 at 10 a.m.&nbsp\;-&nbsp\;Register \n\n	Tuesday\, May 12 at 4 p.m.&nbsp\;-&nbsp\;Register \n\n	Thursday\,&nbsp\;May 18 at 1 p.m.&nbsp\;-&nbsp\;Register \n\n	Thursday\,&nbsp\;May 28 at 10 a.m.&nbsp\;-&nbsp\;Register \n\n	Wednesday\, June 3 at 12 p.m./noon -  Register \n\n\n\n\n\nPre-registration is required to attend a&nbsp\;Public Health Virtual Information&nbsp\;session&nbsp\;- use the registration links above\, or &nbsp\; visit the CPH Events Portal&nbsp\;for a full list of upcoming Public Health Virtual Information Sessions and to Register . Prospective students who register and attend a Public Health Virtual Information Session will receive a code to waive the GVSU MPH application fee.&nbsp\;\n\n\n\nClick here for additional information\n\n\n\nRSVP for this event
SUMMARY:Master of Public Health (MPH) Virtual Information Session
PRIORITY:3
END:VEVENT
BEGIN:VEVENT
DTSTART:20260528T100000
DTEND:20260528T110000
DESCRIPTION:The Master of Public Health program invites you to learn more about earning your MPH degree at GVSU!\n\n\n\nJoin the MPH program director\, Dr. Ranelle Brew\, to learn how and why you should earn your Master of Public Health at Grand Valley State University.&nbsp\;\n\nWe invite you to attend an upcoming Information Event\:\n\n\n\nProspective MPH applicants are encouraged to join us for any one of our&nbsp\;upcoming interactive Public Health Virtual Information&nbsp\;sessions\; all will be held virtually.\n\n\n\n\n\n	Friday\,&nbsp\;April 24 at&nbsp\;10&nbsp\;a.m.&nbsp\;-&nbsp\; Register \n\n	Wednesday\, April 29 at 9 a.m.&nbsp\;-&nbsp\;Register \n\n	Thursday\,&nbsp\;May 7 at 10 a.m.&nbsp\;-&nbsp\;Register \n\n	Tuesday\, May 12 at 4 p.m.&nbsp\;-&nbsp\;Register \n\n	Thursday\,&nbsp\;May 18 at 1 p.m.&nbsp\;-&nbsp\;Register \n\n	Thursday\,&nbsp\;May 28 at 10 a.m.&nbsp\;-&nbsp\;Register \n\n	Wednesday\, June 3 at 12 p.m./noon -  Register \n\n\n\n\n\nPre-registration is required to attend a&nbsp\;Public Health Virtual Information&nbsp\;session&nbsp\;- use the registration links above\, or &nbsp\; visit the CPH Events Portal&nbsp\;for a full list of upcoming Public Health Virtual Information Sessions and to Register . Prospective students who register and attend a Public Health Virtual Information Session will receive a code to waive the GVSU MPH application fee.&nbsp\;\n\n\n\nClick here for additional information\n\n\n\nRSVP for this event
SUMMARY:Master of Public Health (MPH) Virtual Information Session
PRIORITY:3
END:VEVENT
BEGIN:VEVENT
DTSTART:20260603T120000
DTEND:20260603T130000
DESCRIPTION:The Master of Public Health program invites you to learn more about earning your MPH degree at GVSU!\n\n\n\nJoin the MPH program director\, Dr. Ranelle Brew\, to learn how and why you should earn your Master of Public Health at Grand Valley State University.&nbsp\;\n\nWe invite you to attend an upcoming Information Event\:\n\n\n\nProspective MPH applicants are encouraged to join us for any one of our&nbsp\;upcoming interactive Public Health Virtual Information&nbsp\;sessions\; all will be held virtually.\n\n\n\n\n\n	Friday\,&nbsp\;April 24 at&nbsp\;10&nbsp\;a.m.&nbsp\;-&nbsp\; Register \n\n	Wednesday\, April 29 at 9 a.m.&nbsp\;-&nbsp\;Register \n\n	Thursday\,&nbsp\;May 7 at 10 a.m.&nbsp\;-&nbsp\;Register \n\n	Tuesday\, May 12 at 4 p.m.&nbsp\;-&nbsp\;Register \n\n	Thursday\,&nbsp\;May 18 at 1 p.m.&nbsp\;-&nbsp\;Register \n\n	Thursday\,&nbsp\;May 28 at 10 a.m.&nbsp\;-&nbsp\;Register \n\n	Wednesday\, June 3 at 12 p.m./noon -  Register \n\n\n\n\n\nPre-registration is required to attend a&nbsp\;Public Health Virtual Information&nbsp\;session&nbsp\;- use the registration links above\, or &nbsp\; visit the CPH Events Portal&nbsp\;for a full list of upcoming Public Health Virtual Information Sessions and to Register . Prospective students who register and attend a Public Health Virtual Information Session will receive a code to waive the GVSU MPH application fee.&nbsp\;\n\n\n\nClick here for additional information\n\n\n\nRSVP for this event
SUMMARY:Master of Public Health (MPH) Virtual Information Session
PRIORITY:3
END:VEVENT
END:VCALENDAR