BEGIN:VCALENDAR
VERSION:2.0
PRODID:-//GVSU//GVSU Calendar 0.1//EN
BEGIN:VEVENT
DTSTART:20250827T120000Z
DTEND:20250827T150000Z
DTSTAMP:20250725T191715Z
UID:607a36e3-b57c-4bf5-82d4-19146f119486@gvsu.edu
DESCRIPTION:
LOCATION:Kirkhof East Lawn (right by Zumberge pond) on Valley Campus.
SUMMARY:Rainbow Social
PRIORITY:3
END:VEVENT
END:VCALENDAR
