BEGIN:VCALENDAR
VERSION:2.0
PRODID:-//GVSU//GVSU Calendar 0.1//EN
BEGIN:VEVENT
DTSTART:20250923T113000Z
DTEND:20250923T130000Z
DTSTAMP:20250915T192253Z
UID:70b8d71c-4316-4d5a-9799-3f7eab77ac94@gvsu.edu
DESCRIPTION:
LOCATION:This event will take place in the Honors College 150 (HON 150) in the Chamberlain Multipurpose Room.
SUMMARY:A Celebration of Hispanic Heritage\: Sabor y Sonido
PRIORITY:3
END:VEVENT
END:VCALENDAR
