BEGIN:VCALENDAR
VERSION:2.0
PRODID:-//GVSU//GVSU Calendar 0.1//EN
BEGIN:VEVENT
DTSTART:20260422T170000
DTEND:20260422T180000
DESCRIPTION:Winter &amp\; Summer&nbsp\;2026&nbsp\;graduates\, you&#39\;re invited to join President Mantella and&nbsp\;GVSU Alumni Relations to celebrate your graduation and what it means to be a Laker for a Lifetime. Enjoy dessert\, sparkling punch\, a glass of champagne\, or a non-alcoholic variety\, and giveaways!&nbsp\;Take home your commemorative&nbsp\;Laker for a Lifetime champagne flute.\n\n\n\nA valid state ID is required\n\n\n					\n						Click here for additional information\n					\n				\n					\n						RSVP for this event\n
SUMMARY:Toast to the Class of 2026
PRIORITY:3
END:VEVENT
BEGIN:VEVENT
DTSTART:20260422T190000
DTEND:20260422T200000
DESCRIPTION:Winter &amp\; Summer&nbsp\;2026&nbsp\;graduates\, you&#39\;re invited to join President Mantella and&nbsp\;GVSU Alumni Relations to celebrate your graduation and what it means to be a Laker for a Lifetime. Enjoy dessert\, sparkling punch\, a glass of champagne\, or a non-alcoholic variety\, and giveaways!&nbsp\;Take home your commemorative&nbsp\;Laker for a Lifetime champagne flute.\n\n\n\nA valid state ID is required\n\n\n					\n						Click here for additional information\n					\n				\n					\n						RSVP for this event\n
SUMMARY:Toast to the Class of 2026
PRIORITY:3
END:VEVENT
BEGIN:VEVENT
DTSTART:20260423T090000
DTEND:20260423T110000
DESCRIPTION:Padnos College of Engineering (PCE)&nbsp\;Project Day showcases the work of undergraduate and graduate students in Engineering&nbsp\;and Occupational Safety and Health Management majors. Projects are a cumulation of what PCE&nbsp\;students learned in the classroom along with soft skills and teamwork. At the conclusion of each fall and winter semester\, we invite the Greater Grand Rapids area high schools&nbsp\;to the Shape Corp. Innovation Design Center on the PEW campus to interact with our&nbsp\;students\, staff\, and faculty. We believe in near-peer mentorship\; this tradition highlights our students and what they can achieve in a semester\, and the inspiration their work can give to our GVSU and Grand Rapids community.&nbsp\;
SUMMARY:Padnos College of Engineering Project Day
PRIORITY:3
END:VEVENT
END:VCALENDAR