BEGIN:VCALENDAR
VERSION:2.0
PRODID:-//GVSU//GVSU Calendar 0.1//EN
BEGIN:VEVENT
DTSTART:20240228T100000
DTEND:20240228T113000
DESCRIPTION:This workshop will provide opportunities for faculty and staff to consider how to support student mentees with a focus on trust and belonging. \n\n\n\nIn the first session\, we will collectively reflect on our own experiences with mentoring as a basis for discussing the role of trust and belonging in mentoring relationships.\n\n\n\nIn the second session\, we will focus in more detail on inclusive strategies that make explicit how activities relate to student engagement and development.\n\n\n\nNote that participation in both sessions is not required\; we will provide supplemental materials for the session not attended.\n\n\n\nFacilitated by Caitlin Callahan\, Geology\, and Jamie Owen-DeSchryver\, Psychology
LOCATION:2201 Kirkhof Center
SUMMARY:Mentoring from Different Perspectives in Two Parts  (For Faculty)
PRIORITY:3
END:VEVENT
END:VCALENDAR