BEGIN:VCALENDAR
VERSION:2.0
PRODID:-//GVSU//GVSU Calendar 0.1//EN
BEGIN:VEVENT
DTSTART:20240119T140000
DTEND:20240119T160000
DESCRIPTION:**THIS EVENT IS CANCELED AND WILL BE RESCHEDULED AT A LATER TIME**\n\n\n\nPlease reach out to ours@gvsu.edu if you&#39\;d like to learn more about the office in the meantime. \n\n\n\nThe Student Scholars Day (SSD) committee is inviting you to get to know the Office of Undergraduate Research and Scholarship on Friday\, January 12\, 2024 from 2\:00-4\:00 p.m. in the Laker Club.\n\n\n\nCome learn about OURS programs. Funding opportunities to support undergraduate research for ALL disciplines during the academic year and summer. Meet other faculty who have obtained OURS grant funding and are experienced in undergraduate research in and out of the classroom.\n\n\n\nWe&rsquo\;ll have snacks and good conversation.\n\n\n\n
LOCATION:Laker Club\, Allendale Campus
SUMMARY:CANCELLED\: Get to know OURS for faculty
PRIORITY:3
END:VEVENT
END:VCALENDAR