BEGIN:VCALENDAR
VERSION:2.0
PRODID:-//GVSU//GVSU Calendar 0.1//EN
BEGIN:VEVENT
DTSTART:20231206T110000
DTEND:20231206T120000
DESCRIPTION:Office of Undergraduate Research and Scholarships (OURS) will host a listening and discussion session for faculty who supervise student research(ers) in lab settings (e.g.\, traditional labs found in STEM as well as adaptions found in other fields including Social Sciences). The OURS team would like to learn more about\:\n\n\n\n\n\n	How to connect faculty working with students in lab spaces.\n\n	The types of research activities ongoing in lab spaces on campus.\n\n	How to support students and faculty working in lab environments.\n\n	Resources needed to support student work in lab spaces.\n\n\n\n\n\nThe event will be led by Anna Hammersmith (Sociology\, Social Science Lab) and Kristin Renkema (Biomedical Sciences\, Lab Sciences).\n\n\n\n
LOCATION:1142 Kirkhof Center
SUMMARY:Supporting Student Research in Lab Spaces\: Conversations and Connections
PRIORITY:3
END:VEVENT
END:VCALENDAR