BEGIN:VCALENDAR
VERSION:2.0
PRODID:-//GVSU//GVSU Calendar 0.1//EN
BEGIN:VEVENT
DTSTART:20231117T110000
DTEND:20231117T130000
DESCRIPTION:This mentoring workshop module will provide opportunities for faculty and staff to consider how to support student mentees with a focus on trust and belonging.  We will collectively reflect on our own experiences with mentoring\, highlighting inclusive strategies that make explicit how activities relate to student engagement and development.\n\n\n\nA light lunch will be served.\n\n\n\nThis event is hosted by the Office of Undergraduate Research and Scholarship and presented by Caitlin Callahan (Geology) and Jamie Owen-De Schryver (Psychology).
LOCATION:1100 JHZ. Allendale campus.
SUMMARY:Mentoring from Different Perspectives\: For Faculty
PRIORITY:3
END:VEVENT
END:VCALENDAR