BEGIN:VCALENDAR
VERSION:2.0
PRODID:-//GVSU//GVSU Calendar 0.1//EN
BEGIN:VEVENT
DTSTART:20240726T160000
DTEND:20240726T190000
DESCRIPTION:The GVSU Summer Scholars Showcase celebrates the scholarship\, research\, and creative work of undergraduate students who participated in summer research through programs such as Student Summer Scholars (S3)\, Modified Student Summer Scholars (MS3)\, Library Scholars\, REU Program in Mathematics\, and McNair Scholars.\n\n\n\nScholars begin the summer with a research question\, a methodological roadmap\, and the guidance of a faculty mentor. These tools provide scholars with a solid foundation to engage in mentored inquiry. In doing research and scholarship\, they begin to direct their own educational paths and familiarize themselves with the requirements and structure of professional research. Successful projects require tenacity\, courage\, and patience. These attitudes\, in concert with a foundation of academic and critical thinking skills\, help scholars further their knowledge in a specific area while learning to incorporate academics with professional work.\n\n\n\nThe format of the GVSU Summer Scholars Showcase is similar to Student Scholars Day (SSD). The event generally is about 3 hours in length and includes food for Scholars\, Mentors\, and guests.
LOCATION:SCB 1008-Multi Purpose Room\, Seidman College of Business\, Grand Rapids
SUMMARY:GVSU Summer Scholars Showcase
PRIORITY:3
END:VEVENT
END:VCALENDAR