BEGIN:VCALENDAR
VERSION:2.0
PRODID:-//GVSU//GVSU Calendar 0.1//EN
BEGIN:VEVENT
DTSTART:20251023T160000Z
DTEND:20251023T170000Z
DTSTAMP:20250929T160657Z
UID:9cf1e08c-e7e3-4111-9a9c-d11ed436472c@gvsu.edu
DESCRIPTION:
LOCATION:2201 KC\, Valley Campus
SUMMARY:Fear Smarter\, Not Harder\: The Science on Fear Workshop
PRIORITY:3
END:VEVENT
END:VCALENDAR
