BEGIN:VCALENDAR
VERSION:2.0
PRODID:-//GVSU//GVSU Calendar 0.1//EN
BEGIN:VEVENT
DTSTART:20260317T160000Z
DTEND:20260317T170000Z
DTSTAMP:20260220T193640Z
UID:952f1746-6889-4e79-a2d5-e75af73a90a5@gvsu.edu
DESCRIPTION:
LOCATION:Please RSVP for the event. An Outlook Calendar invite will be sent the day prior to the event.
SUMMARY:Inclusion Beyond the Classroom\: Accommodations in Experiential Learning
PRIORITY:3
END:VEVENT
END:VCALENDAR
