BEGIN:VCALENDAR
VERSION:2.0
PRODID:-//GVSU//GVSU Calendar 0.1//EN
BEGIN:VEVENT
DTSTART:20260209T160000Z
DTEND:20260209T165000Z
DTSTAMP:20260127T160339Z
UID:5230a119-6ca9-4e20-a261-fa6e62292ed6@gvsu.edu
DESCRIPTION:
LOCATION:Please go to the RSVP Link to register. We will send the zoom invitation out to all registered faculty in a separate email.  Please register on or before Friday\, February 6 (end of workday)\, so that we know you intend to participate in order to receive the zoom invitation.
SUMMARY:Removing Language Barriers to Student Success and Belonging
PRIORITY:3
END:VEVENT
END:VCALENDAR
