BEGIN:VCALENDAR
VERSION:2.0
PRODID:-//GVSU//GVSU Calendar 0.1//EN
BEGIN:VEVENT
DTSTART:20260423T173000Z
DTEND;VALUE=DATE:20260423Z
DTSTAMP:20260408T174207Z
UID:c2bc9ae5-8e45-4ba5-b807-c34c807f17fb@gvsu.edu
DESCRIPTION:
LOCATION:DeVos Performance Hall\, 303 Monroe Avenue NW\, Grand Rapids\, MI 49503
SUMMARY:Divine Nine Night at The Lion King
PRIORITY:3
END:VEVENT
END:VCALENDAR
