BEGIN:VCALENDAR
VERSION:2.0
PRODID:-//GVSU//GVSU Calendar 0.1//EN
BEGIN:VEVENT
DTSTART:20260422T170000Z
DTEND:20260422T183000Z
DTSTAMP:20260403T153154Z
UID:c25d0ab7-2ee5-4212-8907-3e4aeec043d1@gvsu.edu
DESCRIPTION:
LOCATION:Kirkhof 2270
SUMMARY:Fostering Laker Success 9th Annual Spring Celebration
PRIORITY:3
END:VEVENT
END:VCALENDAR
