BEGIN:VCALENDAR
VERSION:2.0
PRODID:-//GVSU//GVSU Calendar 0.1//EN
BEGIN:VEVENT
DTSTART:20260424T120000Z
DTEND:20260424T140000Z
DTSTAMP:20260413T140809Z
UID:55a4f737-d45d-42ed-a460-cd77bab3fb86@gvsu.edu
DESCRIPTION:
LOCATION:2204 Kirkhof Center (Pere Marquette Room)
SUMMARY:OSSB End of Year Celebration
PRIORITY:3
END:VEVENT
END:VCALENDAR
