BEGIN:VCALENDAR
VERSION:2.0
PRODID:-//GVSU//GVSU Calendar 0.1//EN
BEGIN:VEVENT
DTSTART:20161005T160000
DTEND:20161005T180000
DESCRIPTION:LIB 100 Approved!\n\n\n\nJoin Dr. Pickard as he shares highlights from his enlightening new book &ldquo\;Seven Principles of  Entrepreneurship.&rdquo\; With more than 35 years of learning\, working and educating\, he has worked with presidents\, international corporations\, and institutions of higher learning\; and led his own very successful  businesses.\n\n\n\nWhatever your major\, Dr. Pickard&rsquo\;s insights will benefit you. Learn how to dream bigger and create a  successful path for your future career based on seven key factors.\n\n\n\nMore about Dr. Pickard\n\nAs the founder and chairman of Global Automotive Alliance\, LLC\, Dr. Pickard is an expert on  entrepreneurship and overcoming barriers to success created by age\, race\, gender\, education\, or income. Among his many achievements\, he is influential in Southeast Michigan as co-managing partner of the MGM Grand Detroit Casino\, CEO of Bearwood Management company\, and as the co-owner of five black-owned newspapers.\n\n\n\nDr. Pickard\, who served on Grand Valley&rsquo\;s Board of Trustees for 11 years\, credits much of his success to mentoring from Grand Valley&rsquo\;s founders. He has had an inspiring career which began in humble roots. He was the first in his family to earn a four-year degree and relied on support from his parents and the  community. Out of gratitude to them\, he has established the Dr. William F. Pickard Business Scholarship at Grand Valley to encourage first generation students.
LOCATION:
SUMMARY:\"Seven Principles of Entrepreneurship\" Featuring Dr. William F. Pickard\, Ph.D.
PRIORITY:3
END:VEVENT
END:VCALENDAR