BEGIN:VCALENDAR
VERSION:2.0
PRODID:-//GVSU//GVSU Calendar 0.1//EN
BEGIN:VEVENT
DTSTART:20240222T193000
DTEND:20240222T000000
DESCRIPTION:MTD&#39\;s Community Engagement Project (CEP) aims to highlight and explore the ways in which the elements of communication can be maximized in musical concerts through working with community organizations and presenting various types of interactive concerts at those organizations. Participating students will be at the forefront of communicating with community organization staff members and creating interactive concert programs. Students will learn to create effective and meaningful programs that are tailored for the audience at each organization through reading\, observing\, rehearsing\, and attending talks/workshops and present these concerts maximizing the level of communication.\n\n\n\nAs part of CEP&#39\;s Guest Artist Lecture Series\, Will Fedkenheuer\, violinist of the renowned Miro Quartet\, will be giving an interactive one-hour talk\, sharing on his experiences with outreach engagement\, give advice for students who are about to go out into the community to give outreach performances\, and more.
LOCATION:Sherman van Solkema Recital Hall
SUMMARY:Guest Artist Lecture\: Will Fedkenheuer (Music Community Engagement Project)
PRIORITY:3
END:VEVENT
END:VCALENDAR