BEGIN:VCALENDAR
VERSION:2.0
PRODID:-//GVSU//GVSU Calendar 0.1//EN
BEGIN:VEVENT
DTSTART:20231201T130000
DTEND:20231201T143000
DESCRIPTION:Middle school and high school oboists are invited to register for a 90-minute Group Oboe Lesson with Dr. VavY&iacute\;kov&aacute\;. This event is free\, but the number of participants is limited. Registration opens on October 1 and closes on November 15.\n\n\n\nRegister for Group Oboe Lessons\n\n\n\nDr. Marlen Vavrikova is Professor of Music at Grand Valley State University in Allendale\, Michigan. She was also Visiting Professor at the University of Ostrava (2022) and Visiting Instructor of Oboe at the Interlochen Arts Academy (2017). During summers she teaches at the bi-annual Ostrava Oboe Master Classes. Her playing was praised as &quot\;beautiful throughout\, with a sensitive and lyrical touch\, sure technique and intonation\, and a range of dynamics unusually wide for oboists.&quot\; (Fanfare) The compact disc &quot\;Petr Eben\: Chamber Music for Oboe&quot\; was recognized as &quot\;one of the most important issues there has ever been of Eben&#39\;s music.&quot\; (Dvorak Society) Dr. Vavrikova earned an Artist Diploma from the Janacek Conservatory in Ostrava where she studied with Gabriel Sykora and Josef Zidek\, a Master of Music degree from the Eastman School of Music where she studied with Professor Richard Killmer\, and a Doctor of Musical Arts Degree from the University of Illinois at Champaign-Urbana where she studied with professors Nancy Ambrose King and Dan Stolper.
LOCATION:Room 1410\n\nHaas Center for Performing Arts
SUMMARY:Oboe Group Lesson with Dr. Vavrikova (Middle School and High School Students)
PRIORITY:3
END:VEVENT
END:VCALENDAR