BEGIN:VCALENDAR
VERSION:2.0
PRODID:-//GVSU//GVSU Calendar 0.1//EN
BEGIN:VEVENT
DTSTART:20231006T110000
DTEND:20231006T130000
DESCRIPTION:One of the most recognized oboists\, Professor at the University of Michigan Dr. Nancy Ambrose King\, will teach GVSU students in a two-hour master class. This event is free and open to the public.\n\n\n\nDr. King has appeared as a soloist throughout the United States and abroad\, including performances with the St. Petersburg\, Russia\, Philharmonic\, Prague Chamber Orchestra\, Janacek Philharmonic\, Tokyo Chamber Orchestra\, Puerto Rico Symphony\, Orchestra of the Swan in Birmingham\, England\, Festival Internacionale de Musica in Buenos Aires\, New York String Orchestra\, Amarillo Symphony\, Cayuga Chamber Orchestra\, and Sinfonia da Camera. She has performed as a recitalist in Weill Recital Hall and as a soloist at Lincoln Center and Carnegie Hall. Dr. King has recorded eleven CDs of works for the oboe and has written a highly successful e-book for Apple I-Tunes &quot\;Making Oboe Reeds from Start to Finish with Nancy Ambrose King&quot\;.
LOCATION:Cook Dewitt Center
SUMMARY:Guest Artist Masterclass\: Dr. Nancy Ambrose King
PRIORITY:3
END:VEVENT
END:VCALENDAR