BEGIN:VCALENDAR
VERSION:2.0
PRODID:-//GVSU//GVSU Calendar 0.1//EN
BEGIN:VEVENT
DTSTART:20231101T193000
DTEND:20231101T000000
DESCRIPTION:The University Arts Chorale (Chuck Norris\, conductor) performs.
LOCATION:Cook-Dewitt Center
SUMMARY:University Arts Chorale Concert
PRIORITY:3
END:VEVENT
END:VCALENDAR