BEGIN:VCALENDAR
VERSION:2.0
PRODID:-//GVSU//GVSU Calendar 0.1//EN
BEGIN:VEVENT
DTSTART:20240204T140000
DTEND:20240204T000000
DESCRIPTION:The GVSU Wind Symphony (Dr. Kevin Tutt\, conductor) performs with the West Michigan Winds.
LOCATION:Louis Armstrong Theatre\n\nHaas Center for Performing Arts
SUMMARY:Wind Symphony Concert with the West Michigan Winds
PRIORITY:3
END:VEVENT
END:VCALENDAR