BEGIN:VCALENDAR
VERSION:2.0
PRODID:-//GVSU//GVSU Calendar 0.1//EN
BEGIN:VEVENT
DTSTART:20231206T193000
DTEND:20231206T000000
DESCRIPTION:The GVSU Wind Symphony performs. Dr. Kevin Tutt\, conductor.\n\n\n\nDecember 6\, 2023 Concert\n\nSplinter..........................................Holly Harrison\n\n\n\nSymphony No. 3..........................Michael Mikula
LOCATION:Louis Armstrong Theatre\n\nHaas Center for Performing Arts
SUMMARY:Wind Symphony Concert
PRIORITY:3
END:VEVENT
END:VCALENDAR