BEGIN:VCALENDAR
VERSION:2.0
PRODID:-//GVSU//GVSU Calendar 0.1//EN
BEGIN:VEVENT
DTSTART:20231018T193000
DTEND:20231018T000000
DESCRIPTION:The GVSU Wind Symphony performs. Dr. Kevin Tutt\, conductor.\n\n\n\nOctober 18\, 2023 Concert\n\n \n\n\n\nGrand Teton from American Scene ....................William Grant Still\n\n\n\nSymphony for Band...........................................Vincent Persichetti\n\n\n\nLetters......................................................................Kelijah Dunton\n\n\n\nLa Lira de Pozuelo.........................................Luis Serrano Alarcon\n\n\n\nRobinson&#39\;s Grand Entree March......................................Karl King\n\n\n\nGalactic Empires...................................................David Gilingham\n\n\n\nBe Thou My Vision................................................David Gilingham\n\n\n\nMetropolis Downpour.............................................Darius Edwards
LOCATION:Louis Armstrong Theatre\n\nHaas Center for Performing Arts
SUMMARY:Wind Symphony Concert
PRIORITY:3
END:VEVENT
END:VCALENDAR