BEGIN:VCALENDAR
VERSION:2.0
PRODID:-//GVSU//GVSU Calendar 0.1//EN
BEGIN:VEVENT
DTSTART:20240226T193000
DTEND:20240226T000000
DESCRIPTION:The GVSU Concert Band performs. Dr. John Martin\, conductor.
LOCATION:Louis Armstrong Theatre\n\nHaas Center for Performing Arts
SUMMARY:Concert Band Concert
PRIORITY:3
END:VEVENT
END:VCALENDAR