BEGIN:VCALENDAR
VERSION:2.0
PRODID:-//GVSU//GVSU Calendar 0.1//EN
BEGIN:VEVENT
DTSTART:20231011T193000
DTEND:20231011T000000
DESCRIPTION:The GVSU Symphony Orchestra performs. Dr. Joel Schut\, conductor.\n\n\n\nOCTOBER 11 CONCERT\n\nVoices Shouting Out&hellip\;&hellip\;&hellip\;&hellip\;&hellip\;&hellip\;&hellip\;&hellip\;&hellip\;&hellip\;&hellip\;..Nkeiru Okoye\n\n\n\nCello Concerto No. 2 in D Major&hellip\;&hellip\;..&hellip\;&hellip\;.Franz Joseph Haydn\n\nDr. Pablo Mahave-Veglia\, cello\n\n\n\n-intermission-\n\n\n\nSymphony No. 2 in B minor&hellip\;&hellip\;&hellip\;&hellip\;&hellip\;&hellip\;&hellip\;&hellip\;Alexander Borodin\n\n\n\nFree and open to the public.
LOCATION:Louis Armstrong Theatre\n\nHaas Center for Performing Arts
SUMMARY:Symphony Orchestra Concert
PRIORITY:3
END:VEVENT
END:VCALENDAR