BEGIN:VCALENDAR
VERSION:2.0
PRODID:-//GVSU//GVSU Calendar 0.1//EN
BEGIN:VEVENT
DTSTART:20230928T180000
DTEND:20230928T193000
DESCRIPTION:Our first group of students that participated in a new faculty-led study abroad program in Austria and the Czech Republic spent three weeks in beautiful European cities\, starting with Prague and Ostrava\, and continuing to Vienna. In our meeting on September 28\, we will focus on the Czech Republic and introduce the country by sharing stories and photos from sightseeing trips\, concerts\, lectures\, and workshops\, as well as experiences with taking public transportation and meeting with students from the University of Ostrava. Our students will talk about their most memorable moments. And of course\, we cannot forget about food! Refreshments will be served.
LOCATION:Room 1410\n\nHaas Center for Performing Arts
SUMMARY:Study Abroad\: Czech Republic\: Presentation and Student Panel
PRIORITY:3
END:VEVENT
END:VCALENDAR