BEGIN:VCALENDAR
VERSION:2.0
PRODID:-//GVSU//GVSU Calendar 0.1//EN
BEGIN:VEVENT
DTSTART:20211118T193000
DTEND:20211118T000000
DESCRIPTION:The New Music Ensemble presents world premieres from their Lake Michigan project\, part of GVSU&#39\;s Making Waves Initiative. Music from Olivia Kieffer\, Logan Rutledge\, and Tony Manfredonia will be performed\, plus music videos from composers Nathan Hudson and Elena  Specht. In addition\, commissioned music by Marc Mellits and Pascal Le Boeuf will be performed\, from the ensemble&#39\;s 2021 National Parks project. And as a bonus\, SIX of the composers will be attending! Come out to hear fantastic music inspired by the world around us\, and then meet and talk to the composers that made it all happen.\n\n\n\nNovember 18\, 2021\n\nLouis Armstrong Theatre\n\nHaas Center for Performing Arts\n\nFree and open to the public\n\n\n\nMasks required for the duration of the performance. Audience members must show their passed self-assessment from www.gvsu.edu/lakerstogether
LOCATION:Louis Armstrong Theatre
SUMMARY:New Music Ensemble Concert
PRIORITY:3
END:VEVENT
END:VCALENDAR