BEGIN:VCALENDAR
VERSION:2.0
PRODID:-//GVSU//GVSU Calendar 0.1//EN
BEGIN:VEVENT
DTSTART:20221027T193000
DTEND:20221027T000000
DESCRIPTION:Multi-Grammy Award winning cellist Nick Photinos presents a one hour concert of recent music. This event is part of his week-long residency at GVSU where he will participate in Cello-Fest\, work with student composers and performers\, and perform on and off campus.\n\n\n\nNick Photinos is one of the most innovative and multifaceted cellists of our time. An ardent advocate of new music\, he has worked closely with many of the foremost composers of this era and has premiered hundreds of works throughout his career. Apart from four Grammy wins\, he has received Musical America&#39\;s Ensemble of the Year Award\, the Macarthur Award for Creative and Effective Institutions\, the inaugural Chamber Music America Visionary Award\, the Naumburg Award\, and the Concert Artists Guild Grand Prize.
LOCATION:Sherman van Solkema Recital Hall\n\nHaas Center for Performing Arts
SUMMARY:Free Play 48\: Nick Photinos
PRIORITY:3
END:VEVENT
END:VCALENDAR