BEGIN:VCALENDAR
VERSION:2.0
PRODID:-//GVSU//GVSU Calendar 0.1//EN
BEGIN:VEVENT
DTSTART:20201224T213000
DTEND:20201224T221500
DESCRIPTION:Join us for the 20th annual Christmas Eve Carillon Concert at the Beckering Family Carillon Tower! \n\n\n\nDrive up to a nearby lot\, and enjoy some holiday classics performed by University Carillonneur Julianne Vanden Wyngaard\, from the comfort and safety of your own vehicle.\n\n\n\nAs always\, Silent Night will conclude our concert. \n\n\n\nThis event is free and open to the public. \n\n\n\n
LOCATION:Beckering Family Carillon Tower
SUMMARY:Christmas Eve Carillon Concert
PRIORITY:3
END:VEVENT
END:VCALENDAR