BEGIN:VCALENDAR
VERSION:2.0
PRODID:-//GVSU//GVSU Calendar 0.1//EN
BEGIN:VEVENT
DTSTART:20220926T180000
DTEND:20220926T220000
DESCRIPTION:AUDITION NOTICE\n\n\n\nTHEATRE AT GRAND VALLEY PRESENTS\n\nGloria\n\nBy Branden Jacobs-Jenkins\n\nDirected by Diane Machin\n\n\n\nNovember 18\, 19 and December 1\, 2\, and 3  at 7\:30 PM\n\nNovember 20 and December 4  at 2\:00 PM\n\nKeller Black Box Theatre\, Haas Center for Performing Arts\n\n\n\nAUDITIONS are September 26 and 28 from 6\:00-10\:00 p.m.\n\n\n\nSIGN UP TO AUDITION
LOCATION:Room 1506\n\nHaas Center for Performing Arts
SUMMARY:AUDITIONS (open to all GVSU students) for GLORIA
PRIORITY:3
END:VEVENT
END:VCALENDAR