BEGIN:VCALENDAR
VERSION:2.0
PRODID:-//GVSU//GVSU Calendar 0.1//EN
BEGIN:VEVENT
DTSTART:20260114T160000
DTEND:20260114T180000
DESCRIPTION:Dear Data @ GVSU Kick Off Events - January 14 and Jan. 15\, 4\:00 PM - 6\:00 PM\n\n\n\nJoin us at the Kick-off celebrations on Wednesday\, January 14 and Thursday\, January 15\, 2026. Share your topic\, plan how to collect data\, and grab materials (postcards\, markers\, etc.). Not sure what topic you want to explore? The Dear Data @ GVSU Team will be there for brainstorming and data collection tips. \n\n\n\nMidpoint Meet Up Event &ndash\; February 10\, 2026\, 4\:00 PM - 7\:00 PM\n\n\n\nDear Data participants are also encouraged to attend the Dear Data @ GVSU Midpoint Meet Up. You can learn more about the submission process or simply make time to draw and illustrate. \n\n\n\nDear Data @ GVSU Celebration and Exhibition on Student Scholars Day &ndash\; April 8 at  4\:00 PM \n\n\n\nWe&rsquo\;ll wrap up the project with a celebration and public display of all submitted postcards in the library.  Light refreshments will be provided.\n\n\n\nThe deadline for postcard submissions is March 26\, 2026.  Postcards can be submitted digitally or in physical form.\n\n\n\nAll Dear Data @ GVSU events are casual\, drop-in gatherings where guests can arrive and leave at their convenience.
LOCATION:Mary Idema Pew Library\, Valley Campus\n\nFirst Floor\, Cafe near GV Brew
SUMMARY:Dear Data @ GVSU\: Data & Doodles Kick Off
PRIORITY:3
END:VEVENT
END:VCALENDAR