BEGIN:VCALENDAR
VERSION:2.0
PRODID:-//GVSU//GVSU Calendar 0.1//EN
BEGIN:VEVENT
DTSTART:20260518T120000
DTEND:20260518T130000
DESCRIPTION:Join the GVSU Kirkhof College of Nursing for an interactive program information session to learn about how our programs can help deepen your nursing expertise and grow your career. Led by program faculty and academic advisors\, you&rsquo\;ll explore our programs and have all of your questions answered\:\n\n\n\n\n\n	Master of Science in Nursing\n\n	Doctor of Nursing Practice\n\n	Graduate Certificates in Specialty Areas\n\n	Graduate Nursing Badges\n\n
LOCATION:Registrants will receive a Zoom link prior to the event.
SUMMARY:KCON Virtual Graduate Program Information Session - 5/18/26
PRIORITY:3
END:VEVENT
END:VCALENDAR