BEGIN:VCALENDAR
VERSION:2.0
PRODID:-//GVSU//GVSU Calendar 0.1//EN
BEGIN:VEVENT
DTSTART:20260502T100000
DTEND:20260502T113000
DESCRIPTION:Join the Kirkhof College of Nursing as we celebrate our Bachelor of Science in Nursing and Master of Science in Nursing and Doctor of Nursing Practice graduates at the end of the 2026 Winter Semester at this upcoming Recognition Ceremony.
LOCATION:East Kentwood High School\n\nFine Arts Auditorium\n\n6230 Kalamazoo Ave SE\n\nKentwood MI  49508
SUMMARY:Kirkhof College of Nursing Recognition Ceremony - Winter Semester 2026
PRIORITY:3
END:VEVENT
END:VCALENDAR